BEGIN:VCALENDAR
VERSION:2.0
PRODID:-//La Toscanini - ECPv6.13.2.1//NONSGML v1.0//EN
CALSCALE:GREGORIAN
METHOD:PUBLISH
X-WR-CALNAME:La Toscanini
X-ORIGINAL-URL:https://www.fondazionetoscanini.it
X-WR-CALDESC:Eventi per La Toscanini
REFRESH-INTERVAL;VALUE=DURATION:PT1H
X-Robots-Tag:noindex
X-PUBLISHED-TTL:PT1H
BEGIN:VTIMEZONE
TZID:Europe/Rome
BEGIN:DAYLIGHT
TZOFFSETFROM:+0100
TZOFFSETTO:+0200
TZNAME:CEST
DTSTART:20250330T010000
END:DAYLIGHT
BEGIN:STANDARD
TZOFFSETFROM:+0200
TZOFFSETTO:+0100
TZNAME:CET
DTSTART:20251026T010000
END:STANDARD
END:VTIMEZONE
BEGIN:VEVENT
DTSTART;TZID=Europe/Rome:20251124T153000
DTEND;TZID=Europe/Rome:20251124T163000
DTSTAMP:20260421T121001
CREATED:20251121T103756Z
LAST-MODIFIED:20251124T121342Z
UID:10000460-1763998200-1764001800@www.fondazionetoscanini.it
SUMMARY:CONVERSAZIONI MUSICALI: L’OBOE E IL FAGOTTO
DESCRIPTION:
URL:https://www.fondazionetoscanini.it/eventi/conversazioni-musicali-loboe-e-il-fagotto/
LOCATION:Parma | Centro Produzione Musicale Toscanini – Sala Gavazzeni
CATEGORIES:Incontro,Lezione-Concerto
ATTACH;FMTTYPE=image/jpeg:https://www.fondazionetoscanini.it/wp-content/uploads/2025/11/Conversazioni-musicali_16.9-scaled.jpg
END:VEVENT
BEGIN:VEVENT
DTSTART;TZID=Europe/Rome:20251127T200000
DTEND;TZID=Europe/Rome:20251127T223000
DTSTAMP:20260421T121001
CREATED:20251106T152758Z
LAST-MODIFIED:20251106T152758Z
UID:10000445-1764273600-1764282600@www.fondazionetoscanini.it
SUMMARY:Tosca – Giacomo Puccini
DESCRIPTION:
URL:https://www.fondazionetoscanini.it/eventi/tosca-giacomo-puccini/2025-11-27/
LOCATION:Modena | Teatro Comunale Pavarotti-Freni
CATEGORIES:Opera
ATTACH;FMTTYPE=image/png:https://www.fondazionetoscanini.it/wp-content/uploads/2024/06/foto-eventi-sito-169_filarmonica-toscanini.png
END:VEVENT
BEGIN:VEVENT
DTSTART;TZID=Europe/Rome:20251128T150000
DTEND;TZID=Europe/Rome:20251128T160000
DTSTAMP:20260421T121001
CREATED:20251119T152610Z
LAST-MODIFIED:20251119T153901Z
UID:10000459-1764342000-1764345600@www.fondazionetoscanini.it
SUMMARY:CONCERTO INTERATTIVO per l’ospedale pediatrico “Salesi” di Ancona
DESCRIPTION:
URL:https://www.fondazionetoscanini.it/eventi/concerto-interattivo-per-lospedale-pediatrico-salesi-di-ancona/
LOCATION:Ancona | Ospedale Pediatrico “Salesi”
CATEGORIES:Concerto
ATTACH;FMTTYPE=image/png:https://www.fondazionetoscanini.it/wp-content/uploads/2025/11/foto-eventi-sito-169_duo-viole_screpis-negrotti.png
END:VEVENT
BEGIN:VEVENT
DTSTART;TZID=Europe/Rome:20251129T180000
DTEND;TZID=Europe/Rome:20251129T203000
DTSTAMP:20260421T121001
CREATED:20251106T152758Z
LAST-MODIFIED:20251106T152758Z
UID:10000446-1764439200-1764448200@www.fondazionetoscanini.it
SUMMARY:Tosca – Giacomo Puccini
DESCRIPTION:
URL:https://www.fondazionetoscanini.it/eventi/tosca-giacomo-puccini/2025-11-29/
LOCATION:Modena | Teatro Comunale Pavarotti-Freni
CATEGORIES:Opera
ATTACH;FMTTYPE=image/png:https://www.fondazionetoscanini.it/wp-content/uploads/2024/06/foto-eventi-sito-169_filarmonica-toscanini.png
END:VEVENT
BEGIN:VEVENT
DTSTART;TZID=Europe/Rome:20251130T153000
DTEND;TZID=Europe/Rome:20251130T180000
DTSTAMP:20260421T121001
CREATED:20251106T152758Z
LAST-MODIFIED:20251106T152758Z
UID:10000447-1764516600-1764525600@www.fondazionetoscanini.it
SUMMARY:Tosca – Giacomo Puccini
DESCRIPTION:
URL:https://www.fondazionetoscanini.it/eventi/tosca-giacomo-puccini/2025-11-30/
LOCATION:Modena | Teatro Comunale Pavarotti-Freni
CATEGORIES:Opera
ATTACH;FMTTYPE=image/png:https://www.fondazionetoscanini.it/wp-content/uploads/2024/06/foto-eventi-sito-169_filarmonica-toscanini.png
END:VEVENT
END:VCALENDAR