BEGIN:VCALENDAR
VERSION:2.0
PRODID:-//La Toscanini - ECPv6.13.2.1//NONSGML v1.0//EN
CALSCALE:GREGORIAN
METHOD:PUBLISH
X-ORIGINAL-URL:https://www.fondazionetoscanini.it
X-WR-CALDESC:Eventi per La Toscanini
REFRESH-INTERVAL;VALUE=DURATION:PT1H
X-Robots-Tag:noindex
X-PUBLISHED-TTL:PT1H
BEGIN:VTIMEZONE
TZID:Europe/Rome
BEGIN:DAYLIGHT
TZOFFSETFROM:+0100
TZOFFSETTO:+0200
TZNAME:CEST
DTSTART:20240331T010000
END:DAYLIGHT
BEGIN:STANDARD
TZOFFSETFROM:+0200
TZOFFSETTO:+0100
TZNAME:CET
DTSTART:20241027T010000
END:STANDARD
BEGIN:DAYLIGHT
TZOFFSETFROM:+0100
TZOFFSETTO:+0200
TZNAME:CEST
DTSTART:20250330T010000
END:DAYLIGHT
BEGIN:STANDARD
TZOFFSETFROM:+0200
TZOFFSETTO:+0100
TZNAME:CET
DTSTART:20251026T010000
END:STANDARD
END:VTIMEZONE
BEGIN:VEVENT
DTSTART;TZID=Europe/Rome:20250213T104500
DTEND;TZID=Europe/Rome:20250213T114500
DTSTAMP:20260421T185211
CREATED:20250108T140328Z
LAST-MODIFIED:20250108T140915Z
UID:10000259-1739443500-1739447100@www.fondazionetoscanini.it
SUMMARY:MONDI POSSIBILI. Ovvero la storia della Signora della Musica e del Viaggiatore
DESCRIPTION:
URL:https://www.fondazionetoscanini.it/eventi/mondi-possibili_2025-pergine/
LOCATION:Pergine | Teatro Comunale
CATEGORIES:Concerto,Scuole,Spettacolo
ATTACH;FMTTYPE=image/png:https://www.fondazionetoscanini.it/wp-content/uploads/2024/01/foto-eventi-sito_mondi-possibili.png
END:VEVENT
BEGIN:VEVENT
DTSTART;TZID=Europe/Rome:20250212T104500
DTEND;TZID=Europe/Rome:20250212T114500
DTSTAMP:20260421T185211
CREATED:20250108T135048Z
LAST-MODIFIED:20250108T140029Z
UID:10000258-1739357100-1739360700@www.fondazionetoscanini.it
SUMMARY:MONDI POSSIBILI. Ovvero la storia della Signora della Musica e del Viaggiatore
DESCRIPTION:
URL:https://www.fondazionetoscanini.it/eventi/mondi-possibili_2025-trento/
LOCATION:Trento | Teatro Cuminetti\, Via Santa Croce 67\, Trento\, Italia
CATEGORIES:Concerto,Scuole,Spettacolo
ATTACH;FMTTYPE=image/png:https://www.fondazionetoscanini.it/wp-content/uploads/2024/01/foto-eventi-sito_mondi-possibili.png
END:VEVENT
BEGIN:VEVENT
DTSTART;TZID=Europe/Rome:20250209T110000
DTEND;TZID=Europe/Rome:20250209T120000
DTSTAMP:20260421T185211
CREATED:20250108T170553Z
LAST-MODIFIED:20250108T170613Z
UID:10000264-1739098800-1739102400@www.fondazionetoscanini.it
SUMMARY:MONDI POSSIBILI. Ovvero la storia della Signora della Musica e del Viaggiatore
DESCRIPTION:
URL:https://www.fondazionetoscanini.it/eventi/mondi-possibili_2025-como/
LOCATION:Como | Teatro Sociale
CATEGORIES:Concerto,Spettacolo
ATTACH;FMTTYPE=image/png:https://www.fondazionetoscanini.it/wp-content/uploads/2024/01/foto-eventi-sito_mondi-possibili.png
END:VEVENT
BEGIN:VEVENT
DTSTART;TZID=Europe/Rome:20250208T150000
DTEND;TZID=Europe/Rome:20250208T160000
DTSTAMP:20260421T185211
CREATED:20250108T165838Z
LAST-MODIFIED:20250108T165919Z
UID:10000263-1739026800-1739030400@www.fondazionetoscanini.it
SUMMARY:MONDI POSSIBILI. Ovvero la storia della Signora della Musica e del Viaggiatore
DESCRIPTION:
URL:https://www.fondazionetoscanini.it/eventi/mondi-possibili_2025-milano/
LOCATION:Milano | Auditorium Sinfonica di Milano
CATEGORIES:Convegno,Spettacolo
ATTACH;FMTTYPE=image/png:https://www.fondazionetoscanini.it/wp-content/uploads/2024/01/foto-eventi-sito_mondi-possibili.png
END:VEVENT
BEGIN:VEVENT
DTSTART;TZID=Europe/Rome:20250208T113000
DTEND;TZID=Europe/Rome:20250208T123000
DTSTAMP:20260421T185211
CREATED:20250127T163243Z
LAST-MODIFIED:20250127T163245Z
UID:10000262-1739014200-1739017800@www.fondazionetoscanini.it
SUMMARY:MONDI POSSIBILI. Ovvero la storia della Signora della Musica e del Viaggiatore
DESCRIPTION:
URL:https://www.fondazionetoscanini.it/eventi/mondi-possibili_2025-milano-3/
LOCATION:Milano | Auditorium Sinfonica di Milano
CATEGORIES:Convegno,Spettacolo
ATTACH;FMTTYPE=image/png:https://www.fondazionetoscanini.it/wp-content/uploads/2024/01/foto-eventi-sito_mondi-possibili.png
END:VEVENT
BEGIN:VEVENT
DTSTART;TZID=Europe/Rome:20250122T110000
DTEND;TZID=Europe/Rome:20250122T120000
DTSTAMP:20260421T185211
CREATED:20250108T091249Z
LAST-MODIFIED:20250123T112647Z
UID:10000257-1737543600-1737547200@www.fondazionetoscanini.it
SUMMARY:MONDI POSSIBILI. Ovvero la storia della Signora della Musica e del Viaggiatore
DESCRIPTION:
URL:https://www.fondazionetoscanini.it/eventi/mondi-possibili_parma-2025/2025-01-22/2/
LOCATION:Parma | Centro Produzione Musicale Toscanini – Sala Gavazzeni
CATEGORIES:Concerto,Scuole,Spettacolo
ATTACH;FMTTYPE=image/png:https://www.fondazionetoscanini.it/wp-content/uploads/2024/01/foto-eventi-sito_mondi-possibili.png
END:VEVENT
BEGIN:VEVENT
DTSTART;TZID=Europe/Rome:20250122T093000
DTEND;TZID=Europe/Rome:20250122T103000
DTSTAMP:20260421T185211
CREATED:20250108T091249Z
LAST-MODIFIED:20250123T112647Z
UID:10000256-1737538200-1737541800@www.fondazionetoscanini.it
SUMMARY:MONDI POSSIBILI. Ovvero la storia della Signora della Musica e del Viaggiatore
DESCRIPTION:
URL:https://www.fondazionetoscanini.it/eventi/mondi-possibili_parma-2025/2025-01-22/1/
LOCATION:Parma | Centro Produzione Musicale Toscanini – Sala Gavazzeni
CATEGORIES:Concerto,Scuole,Spettacolo
ATTACH;FMTTYPE=image/png:https://www.fondazionetoscanini.it/wp-content/uploads/2024/01/foto-eventi-sito_mondi-possibili.png
END:VEVENT
BEGIN:VEVENT
DTSTART;TZID=Europe/Rome:20250121T110000
DTEND;TZID=Europe/Rome:20250121T120000
DTSTAMP:20260421T185211
CREATED:20250108T091249Z
LAST-MODIFIED:20250123T112647Z
UID:10000255-1737457200-1737460800@www.fondazionetoscanini.it
SUMMARY:MONDI POSSIBILI. Ovvero la storia della Signora della Musica e del Viaggiatore
DESCRIPTION:
URL:https://www.fondazionetoscanini.it/eventi/mondi-possibili_parma-2025/2025-01-21/2/
LOCATION:Parma | Centro Produzione Musicale Toscanini – Sala Gavazzeni
CATEGORIES:Concerto,Scuole,Spettacolo
ATTACH;FMTTYPE=image/png:https://www.fondazionetoscanini.it/wp-content/uploads/2024/01/foto-eventi-sito_mondi-possibili.png
END:VEVENT
BEGIN:VEVENT
DTSTART;TZID=Europe/Rome:20250121T093000
DTEND;TZID=Europe/Rome:20250121T103000
DTSTAMP:20260421T185211
CREATED:20250108T091249Z
LAST-MODIFIED:20250123T112647Z
UID:10000254-1737451800-1737455400@www.fondazionetoscanini.it
SUMMARY:MONDI POSSIBILI. Ovvero la storia della Signora della Musica e del Viaggiatore
DESCRIPTION:
URL:https://www.fondazionetoscanini.it/eventi/mondi-possibili_parma-2025/2025-01-21/1/
LOCATION:Parma | Centro Produzione Musicale Toscanini – Sala Gavazzeni
CATEGORIES:Concerto,Scuole,Spettacolo
ATTACH;FMTTYPE=image/png:https://www.fondazionetoscanini.it/wp-content/uploads/2024/01/foto-eventi-sito_mondi-possibili.png
END:VEVENT
BEGIN:VEVENT
DTSTART;TZID=Europe/Rome:20241219T210000
DTEND;TZID=Europe/Rome:20241219T220000
DTSTAMP:20260421T185211
CREATED:20241218T093720Z
LAST-MODIFIED:20241218T093720Z
UID:10000252-1734642000-1734645600@www.fondazionetoscanini.it
SUMMARY:Il meraviglioso Cristiano
DESCRIPTION:
URL:https://www.fondazionetoscanini.it/eventi/il-meraviglioso-cristiano/
CATEGORIES:Concerto,Spettacolo
ATTACH;FMTTYPE=image/png:https://www.fondazionetoscanini.it/wp-content/uploads/2024/12/foto-eventi-sito-169_Alessio-Boni-e-Marcello-Prayer.png
END:VEVENT
BEGIN:VEVENT
DTSTART;TZID=Europe/Rome:20241203T110000
DTEND;TZID=Europe/Rome:20241203T120000
DTSTAMP:20260421T185211
CREATED:20241125T143902Z
LAST-MODIFIED:20241202T101855Z
UID:10000241-1733223600-1733227200@www.fondazionetoscanini.it
SUMMARY:CONNESSIONI VIRTUOSE - Alla scoperta del violino con occhi\, mani e orecchie
DESCRIPTION:
URL:https://www.fondazionetoscanini.it/eventi/connessioni-virtuose-alla-scoperta-del-violino-con-occhi-mani-e-orecchie/
LOCATION:Roma\, Museo Nazionale di Castel Sant’Angelo
CATEGORIES:Concerto,Incontro,Spettacolo
ATTACH;FMTTYPE=image/jpeg:https://www.fondazionetoscanini.it/wp-content/uploads/2024/11/conversazioni-musicali_il-violino_jasenka-tomic_16.9-scaled.jpg
END:VEVENT
BEGIN:VEVENT
DTSTART;TZID=Europe/Rome:20241127T103000
DTEND;TZID=Europe/Rome:20241127T113000
DTSTAMP:20260421T185211
CREATED:20241121T093337Z
LAST-MODIFIED:20241121T093337Z
UID:10000238-1732703400-1732707000@www.fondazionetoscanini.it
SUMMARY:CONCERTOSA Il Fantaregno della Musica
DESCRIPTION:
URL:https://www.fondazionetoscanini.it/eventi/concertosa-il-fantaregno-della-musica-rovigo/
LOCATION:Rovigo | Teatro Sociale\, Piazza G.Garibaldi n. 14\, Rovigo
CATEGORIES:Concerto,Spettacolo
ATTACH;FMTTYPE=image/png:https://www.fondazionetoscanini.it/wp-content/uploads/2024/11/foto-eventi-sito-169_Concertosa.png
END:VEVENT
BEGIN:VEVENT
DTSTART;TZID=Europe/Rome:20241126T103000
DTEND;TZID=Europe/Rome:20241126T113000
DTSTAMP:20260421T185211
CREATED:20241120T102758Z
LAST-MODIFIED:20241120T103415Z
UID:10000237-1732617000-1732620600@www.fondazionetoscanini.it
SUMMARY:CONCERTOSA. Il Fantaregno della Musica
DESCRIPTION:
URL:https://www.fondazionetoscanini.it/eventi/concertosa-il-fantaregno-della-musica/
LOCATION:Parma | CPM Toscanini\, Sala Ipogea Pizzetti\, Viale Barilla 27/A\, Parma\, 43022\, Italia
CATEGORIES:Concerto,Scuole,Spettacolo
ATTACH;FMTTYPE=image/png:https://www.fondazionetoscanini.it/wp-content/uploads/2024/11/foto-eventi-sito-169_Concertosa.png
END:VEVENT
BEGIN:VEVENT
DTSTART;TZID=Europe/Rome:20241019T203000
DTEND;TZID=Europe/Rome:20241019T230000
DTSTAMP:20260421T185211
CREATED:20240926T155716Z
LAST-MODIFIED:20240926T155716Z
UID:10000206-1729369800-1729378800@www.fondazionetoscanini.it
SUMMARY:MESSA DA REQUIEM | CONLON\, FILARMONICA TOSCANINI
DESCRIPTION:
URL:https://www.fondazionetoscanini.it/eventi/messa-da-requiem_conlon-filarmonica-toscanini/
LOCATION:Parma | Teatro Regio
CATEGORIES:Concerto,Spettacolo
ATTACH;FMTTYPE=image/png:https://www.fondazionetoscanini.it/wp-content/uploads/2024/09/foto-eventi-sito-169_festival-Verdi-Messa-da-Requiem.png
END:VEVENT
BEGIN:VEVENT
DTSTART;TZID=Europe/Rome:20240712T160000
DTEND;TZID=Europe/Rome:20240712T170000
DTSTAMP:20260421T185211
CREATED:20240626T162703Z
LAST-MODIFIED:20240627T142009Z
UID:10000147-1720800000-1720803600@www.fondazionetoscanini.it
SUMMARY:MONDI POSSIBILI. Ovvero la storia della Signora della Musica e del Viaggiatore
DESCRIPTION:
URL:https://www.fondazionetoscanini.it/eventi/mondi-possibili-ovvero-la-storia-della-signora-della-musica-e-del-viaggiatore/
LOCATION:Cometa Como\, Via Madruzza\, 36\, Como\, 22100
CATEGORIES:Concerto,Spettacolo
ATTACH;FMTTYPE=image/png:https://www.fondazionetoscanini.it/wp-content/uploads/2024/01/foto-eventi-sito_mondi-possibili.png
END:VEVENT
BEGIN:VEVENT
DTSTART;TZID=Europe/Rome:20240708T213000
DTEND;TZID=Europe/Rome:20240708T223000
DTSTAMP:20260421T185211
CREATED:20240625T100009Z
LAST-MODIFIED:20240625T100009Z
UID:10000142-1720474200-1720477800@www.fondazionetoscanini.it
SUMMARY:Vittorio Adorni. Voglio vivere così | LA TOSCANINI NEXT
DESCRIPTION:
URL:https://www.fondazionetoscanini.it/eventi/vittorio-adorni-voglio-vivere-cosi-la-toscanini-next/
LOCATION:Rio Saliceto (RE)\, Piazzale del Municipio\, Rio Saliceto\, Piazza Giosuè Carducci\, Rio Saliceto (RE)\, 42010
CATEGORIES:Concerto,Spettacolo
ATTACH;FMTTYPE=image/png:https://www.fondazionetoscanini.it/wp-content/uploads/2024/06/foto-eventi-sito-169_la-toscanini-next-.png
END:VEVENT
BEGIN:VEVENT
DTSTART;TZID=Europe/Rome:20240518T113000
DTEND;TZID=Europe/Rome:20240518T123000
DTSTAMP:20260421T185211
CREATED:20240502T085439Z
LAST-MODIFIED:20240503T132458Z
UID:10000112-1716031800-1716035400@www.fondazionetoscanini.it
SUMMARY:Pierino e il lupo | Favola in musica per tutte le famiglie
DESCRIPTION:
URL:https://www.fondazionetoscanini.it/eventi/pierino-e-il-lupo-favola-in-musica-per-tutte-le-famiglie/
LOCATION:Parma | Centro Produzione Musicale Toscanini – Sala Gavazzeni
CATEGORIES:Concerto,Spettacolo
ATTACH;FMTTYPE=image/png:https://www.fondazionetoscanini.it/wp-content/uploads/2024/05/2024.05.18_La-Toscanini-per-Parma-Pride-2024-sito-16.9.png
END:VEVENT
BEGIN:VEVENT
DTSTART;TZID=Europe/Rome:20240512T170000
DTEND;TZID=Europe/Rome:20240512T180000
DTSTAMP:20260421T185211
CREATED:20240110T162414Z
LAST-MODIFIED:20240418T103543Z
UID:10000101-1715533200-1715536800@www.fondazionetoscanini.it
SUMMARY:MONDI POSSIBILI. Ovvero la storia della Signora della Musica e del Viaggiatore
DESCRIPTION:
URL:https://www.fondazionetoscanini.it/eventi/mondi-possibili_tutte-e-tutti-per-uno/2024-05-12/2/
LOCATION:Parma | Parco della Musica\, CPM Arturo Toscanini\, Viale Barilla 27/A\, Parma\, 43121
CATEGORIES:Concerto,Spettacolo
ATTACH;FMTTYPE=image/png:https://www.fondazionetoscanini.it/wp-content/uploads/2024/01/foto-eventi-sito_mondi-possibili.png
END:VEVENT
BEGIN:VEVENT
DTSTART;TZID=Europe/Rome:20240512T110000
DTEND;TZID=Europe/Rome:20240512T120000
DTSTAMP:20260421T185211
CREATED:20240110T162414Z
LAST-MODIFIED:20240418T103543Z
UID:10000100-1715511600-1715515200@www.fondazionetoscanini.it
SUMMARY:MONDI POSSIBILI. Ovvero la storia della Signora della Musica e del Viaggiatore
DESCRIPTION:
URL:https://www.fondazionetoscanini.it/eventi/mondi-possibili_tutte-e-tutti-per-uno/2024-05-12/1/
LOCATION:Parma | Parco della Musica\, CPM Arturo Toscanini\, Viale Barilla 27/A\, Parma\, 43121
CATEGORIES:Concerto,Spettacolo
ATTACH;FMTTYPE=image/png:https://www.fondazionetoscanini.it/wp-content/uploads/2024/01/foto-eventi-sito_mondi-possibili.png
END:VEVENT
BEGIN:VEVENT
DTSTART;TZID=Europe/Rome:20240511T170000
DTEND;TZID=Europe/Rome:20240511T180000
DTSTAMP:20260421T185211
CREATED:20240110T162414Z
LAST-MODIFIED:20240418T103543Z
UID:10000099-1715446800-1715450400@www.fondazionetoscanini.it
SUMMARY:MONDI POSSIBILI. Ovvero la storia della Signora della Musica e del Viaggiatore
DESCRIPTION:
URL:https://www.fondazionetoscanini.it/eventi/mondi-possibili_tutte-e-tutti-per-uno/2024-05-11/
LOCATION:Parma | Parco della Musica\, CPM Arturo Toscanini\, Viale Barilla 27/A\, Parma\, 43121
CATEGORIES:Concerto,Spettacolo
ATTACH;FMTTYPE=image/png:https://www.fondazionetoscanini.it/wp-content/uploads/2024/01/foto-eventi-sito_mondi-possibili.png
END:VEVENT
BEGIN:VEVENT
DTSTART;TZID=Europe/Rome:20240323T160000
DTEND;TZID=Europe/Rome:20240323T170000
DTSTAMP:20260421T185211
CREATED:20240311T091119Z
LAST-MODIFIED:20240311T091119Z
UID:10000077-1711209600-1711213200@www.fondazionetoscanini.it
SUMMARY:MONDI POSSIBILI. Ovvero la storia della Signora della Musica e del Viaggiatore
DESCRIPTION:
URL:https://www.fondazionetoscanini.it/eventi/mondi-possibili-bolzano/
LOCATION:Bolzano | Teatro Comunale – Teatro Studio\, Piazza Verdi 40\, Bolzano\, Italia
CATEGORIES:Concerto,Spettacolo
ATTACH;FMTTYPE=image/png:https://www.fondazionetoscanini.it/wp-content/uploads/2024/01/foto-eventi-sito_mondi-possibili.png
END:VEVENT
BEGIN:VEVENT
DTSTART;TZID=Europe/Rome:20240322T170000
DTEND;TZID=Europe/Rome:20240322T180000
DTSTAMP:20260421T185211
CREATED:20240311T090627Z
LAST-MODIFIED:20240311T090627Z
UID:10000076-1711126800-1711130400@www.fondazionetoscanini.it
SUMMARY:MONDI POSSIBILI. Ovvero la storia della Signora della Musica e del Viaggiatore
DESCRIPTION:
URL:https://www.fondazionetoscanini.it/eventi/mondi-possibili-trento/
LOCATION:Trento | Teatro Cuminetti\, Via Santa Croce 67\, Trento\, Italia
CATEGORIES:Concerto,Spettacolo
ATTACH;FMTTYPE=image/png:https://www.fondazionetoscanini.it/wp-content/uploads/2024/01/foto-eventi-sito_mondi-possibili.png
END:VEVENT
BEGIN:VEVENT
DTSTART;TZID=Europe/Rome:20240218T160000
DTEND;TZID=Europe/Rome:20240218T170000
DTSTAMP:20260421T185211
CREATED:20240110T162414Z
LAST-MODIFIED:20240418T103543Z
UID:10000053-1708272000-1708275600@www.fondazionetoscanini.it
SUMMARY:MONDI POSSIBILI. Ovvero la storia della Signora della Musica e del Viaggiatore
DESCRIPTION:
URL:https://www.fondazionetoscanini.it/eventi/mondi-possibili_tutte-e-tutti-per-uno/2024-02-18/
LOCATION:Parma | Parco della Musica\, CPM Arturo Toscanini\, Viale Barilla 27/A\, Parma\, 43121
CATEGORIES:Concerto,Spettacolo
ATTACH;FMTTYPE=image/png:https://www.fondazionetoscanini.it/wp-content/uploads/2024/01/foto-eventi-sito_mondi-possibili.png
END:VEVENT
BEGIN:VEVENT
DTSTART;TZID=Europe/Rome:20240127T203000
DTEND;TZID=Europe/Rome:20240127T213000
DTSTAMP:20260421T185211
CREATED:20240110T173625Z
LAST-MODIFIED:20240112T094437Z
UID:10000048-1706387400-1706391000@www.fondazionetoscanini.it
SUMMARY:DI MADRE IN FIGLIA - per la Giornata della Memoria
DESCRIPTION:
URL:https://www.fondazionetoscanini.it/eventi/di-madre-in-figlia-per-la-giornata-della-memoria/
LOCATION:Parma | Casa della Musica
CATEGORIES:Concerto,Spettacolo
ATTACH;FMTTYPE=image/png:https://www.fondazionetoscanini.it/wp-content/uploads/2024/01/foto-Di-madre-in-figlia.png
END:VEVENT
END:VCALENDAR