BEGIN:VCALENDAR
VERSION:2.0
PRODID:-//La Toscanini - ECPv6.13.2.1//NONSGML v1.0//EN
CALSCALE:GREGORIAN
METHOD:PUBLISH
X-WR-CALNAME:La Toscanini
X-ORIGINAL-URL:https://www.fondazionetoscanini.it
X-WR-CALDESC:Eventi per La Toscanini
REFRESH-INTERVAL;VALUE=DURATION:PT1H
X-Robots-Tag:noindex
X-PUBLISHED-TTL:PT1H
BEGIN:VTIMEZONE
TZID:Europe/Rome
BEGIN:DAYLIGHT
TZOFFSETFROM:+0100
TZOFFSETTO:+0200
TZNAME:CEST
DTSTART:20240331T010000
END:DAYLIGHT
BEGIN:STANDARD
TZOFFSETFROM:+0200
TZOFFSETTO:+0100
TZNAME:CET
DTSTART:20241027T010000
END:STANDARD
BEGIN:DAYLIGHT
TZOFFSETFROM:+0100
TZOFFSETTO:+0200
TZNAME:CEST
DTSTART:20250330T010000
END:DAYLIGHT
BEGIN:STANDARD
TZOFFSETFROM:+0200
TZOFFSETTO:+0100
TZNAME:CET
DTSTART:20251026T010000
END:STANDARD
END:VTIMEZONE
BEGIN:VEVENT
DTSTART;TZID=Europe/Rome:20241203T110000
DTEND;TZID=Europe/Rome:20241203T120000
DTSTAMP:20260422T184141
CREATED:20241125T143902Z
LAST-MODIFIED:20241202T101855Z
UID:10000241-1733223600-1733227200@www.fondazionetoscanini.it
SUMMARY:CONNESSIONI VIRTUOSE - Alla scoperta del violino con occhi\, mani e orecchie
DESCRIPTION:
URL:https://www.fondazionetoscanini.it/eventi/connessioni-virtuose-alla-scoperta-del-violino-con-occhi-mani-e-orecchie/
LOCATION:Roma\, Museo Nazionale di Castel Sant’Angelo
CATEGORIES:Concerto,Incontro,Spettacolo
ATTACH;FMTTYPE=image/jpeg:https://www.fondazionetoscanini.it/wp-content/uploads/2024/11/conversazioni-musicali_il-violino_jasenka-tomic_16.9-scaled.jpg
END:VEVENT
BEGIN:VEVENT
DTSTART;TZID=Europe/Rome:20241219T210000
DTEND;TZID=Europe/Rome:20241219T220000
DTSTAMP:20260422T184141
CREATED:20241218T093720Z
LAST-MODIFIED:20241218T093720Z
UID:10000252-1734642000-1734645600@www.fondazionetoscanini.it
SUMMARY:Il meraviglioso Cristiano
DESCRIPTION:
URL:https://www.fondazionetoscanini.it/eventi/il-meraviglioso-cristiano/
CATEGORIES:Concerto,Spettacolo
ATTACH;FMTTYPE=image/png:https://www.fondazionetoscanini.it/wp-content/uploads/2024/12/foto-eventi-sito-169_Alessio-Boni-e-Marcello-Prayer.png
END:VEVENT
BEGIN:VEVENT
DTSTART;TZID=Europe/Rome:20250121T093000
DTEND;TZID=Europe/Rome:20250121T103000
DTSTAMP:20260422T184141
CREATED:20250108T091249Z
LAST-MODIFIED:20250123T112647Z
UID:10000254-1737451800-1737455400@www.fondazionetoscanini.it
SUMMARY:MONDI POSSIBILI. Ovvero la storia della Signora della Musica e del Viaggiatore
DESCRIPTION:
URL:https://www.fondazionetoscanini.it/eventi/mondi-possibili_parma-2025/2025-01-21/1/
LOCATION:Parma | Centro Produzione Musicale Toscanini – Sala Gavazzeni
CATEGORIES:Concerto,Scuole,Spettacolo
ATTACH;FMTTYPE=image/png:https://www.fondazionetoscanini.it/wp-content/uploads/2024/01/foto-eventi-sito_mondi-possibili.png
END:VEVENT
BEGIN:VEVENT
DTSTART;TZID=Europe/Rome:20250121T110000
DTEND;TZID=Europe/Rome:20250121T120000
DTSTAMP:20260422T184141
CREATED:20250108T091249Z
LAST-MODIFIED:20250123T112647Z
UID:10000255-1737457200-1737460800@www.fondazionetoscanini.it
SUMMARY:MONDI POSSIBILI. Ovvero la storia della Signora della Musica e del Viaggiatore
DESCRIPTION:
URL:https://www.fondazionetoscanini.it/eventi/mondi-possibili_parma-2025/2025-01-21/2/
LOCATION:Parma | Centro Produzione Musicale Toscanini – Sala Gavazzeni
CATEGORIES:Concerto,Scuole,Spettacolo
ATTACH;FMTTYPE=image/png:https://www.fondazionetoscanini.it/wp-content/uploads/2024/01/foto-eventi-sito_mondi-possibili.png
END:VEVENT
BEGIN:VEVENT
DTSTART;TZID=Europe/Rome:20250122T093000
DTEND;TZID=Europe/Rome:20250122T103000
DTSTAMP:20260422T184141
CREATED:20250108T091249Z
LAST-MODIFIED:20250123T112647Z
UID:10000256-1737538200-1737541800@www.fondazionetoscanini.it
SUMMARY:MONDI POSSIBILI. Ovvero la storia della Signora della Musica e del Viaggiatore
DESCRIPTION:
URL:https://www.fondazionetoscanini.it/eventi/mondi-possibili_parma-2025/2025-01-22/1/
LOCATION:Parma | Centro Produzione Musicale Toscanini – Sala Gavazzeni
CATEGORIES:Concerto,Scuole,Spettacolo
ATTACH;FMTTYPE=image/png:https://www.fondazionetoscanini.it/wp-content/uploads/2024/01/foto-eventi-sito_mondi-possibili.png
END:VEVENT
BEGIN:VEVENT
DTSTART;TZID=Europe/Rome:20250122T110000
DTEND;TZID=Europe/Rome:20250122T120000
DTSTAMP:20260422T184141
CREATED:20250108T091249Z
LAST-MODIFIED:20250123T112647Z
UID:10000257-1737543600-1737547200@www.fondazionetoscanini.it
SUMMARY:MONDI POSSIBILI. Ovvero la storia della Signora della Musica e del Viaggiatore
DESCRIPTION:
URL:https://www.fondazionetoscanini.it/eventi/mondi-possibili_parma-2025/2025-01-22/2/
LOCATION:Parma | Centro Produzione Musicale Toscanini – Sala Gavazzeni
CATEGORIES:Concerto,Scuole,Spettacolo
ATTACH;FMTTYPE=image/png:https://www.fondazionetoscanini.it/wp-content/uploads/2024/01/foto-eventi-sito_mondi-possibili.png
END:VEVENT
BEGIN:VEVENT
DTSTART;TZID=Europe/Rome:20250208T113000
DTEND;TZID=Europe/Rome:20250208T123000
DTSTAMP:20260422T184141
CREATED:20250127T163243Z
LAST-MODIFIED:20250127T163245Z
UID:10000262-1739014200-1739017800@www.fondazionetoscanini.it
SUMMARY:MONDI POSSIBILI. Ovvero la storia della Signora della Musica e del Viaggiatore
DESCRIPTION:
URL:https://www.fondazionetoscanini.it/eventi/mondi-possibili_2025-milano-3/
LOCATION:Milano | Auditorium Sinfonica di Milano
CATEGORIES:Convegno,Spettacolo
ATTACH;FMTTYPE=image/png:https://www.fondazionetoscanini.it/wp-content/uploads/2024/01/foto-eventi-sito_mondi-possibili.png
END:VEVENT
BEGIN:VEVENT
DTSTART;TZID=Europe/Rome:20250208T150000
DTEND;TZID=Europe/Rome:20250208T160000
DTSTAMP:20260422T184141
CREATED:20250108T165838Z
LAST-MODIFIED:20250108T165919Z
UID:10000263-1739026800-1739030400@www.fondazionetoscanini.it
SUMMARY:MONDI POSSIBILI. Ovvero la storia della Signora della Musica e del Viaggiatore
DESCRIPTION:
URL:https://www.fondazionetoscanini.it/eventi/mondi-possibili_2025-milano/
LOCATION:Milano | Auditorium Sinfonica di Milano
CATEGORIES:Convegno,Spettacolo
ATTACH;FMTTYPE=image/png:https://www.fondazionetoscanini.it/wp-content/uploads/2024/01/foto-eventi-sito_mondi-possibili.png
END:VEVENT
BEGIN:VEVENT
DTSTART;TZID=Europe/Rome:20250209T110000
DTEND;TZID=Europe/Rome:20250209T120000
DTSTAMP:20260422T184141
CREATED:20250108T170553Z
LAST-MODIFIED:20250108T170613Z
UID:10000264-1739098800-1739102400@www.fondazionetoscanini.it
SUMMARY:MONDI POSSIBILI. Ovvero la storia della Signora della Musica e del Viaggiatore
DESCRIPTION:
URL:https://www.fondazionetoscanini.it/eventi/mondi-possibili_2025-como/
LOCATION:Como | Teatro Sociale
CATEGORIES:Concerto,Spettacolo
ATTACH;FMTTYPE=image/png:https://www.fondazionetoscanini.it/wp-content/uploads/2024/01/foto-eventi-sito_mondi-possibili.png
END:VEVENT
BEGIN:VEVENT
DTSTART;TZID=Europe/Rome:20250212T104500
DTEND;TZID=Europe/Rome:20250212T114500
DTSTAMP:20260422T184141
CREATED:20250108T135048Z
LAST-MODIFIED:20250108T140029Z
UID:10000258-1739357100-1739360700@www.fondazionetoscanini.it
SUMMARY:MONDI POSSIBILI. Ovvero la storia della Signora della Musica e del Viaggiatore
DESCRIPTION:
URL:https://www.fondazionetoscanini.it/eventi/mondi-possibili_2025-trento/
LOCATION:Trento | Teatro Cuminetti\, Via Santa Croce 67\, Trento\, Italia
CATEGORIES:Concerto,Scuole,Spettacolo
ATTACH;FMTTYPE=image/png:https://www.fondazionetoscanini.it/wp-content/uploads/2024/01/foto-eventi-sito_mondi-possibili.png
END:VEVENT
BEGIN:VEVENT
DTSTART;TZID=Europe/Rome:20250213T104500
DTEND;TZID=Europe/Rome:20250213T114500
DTSTAMP:20260422T184141
CREATED:20250108T140328Z
LAST-MODIFIED:20250108T140915Z
UID:10000259-1739443500-1739447100@www.fondazionetoscanini.it
SUMMARY:MONDI POSSIBILI. Ovvero la storia della Signora della Musica e del Viaggiatore
DESCRIPTION:
URL:https://www.fondazionetoscanini.it/eventi/mondi-possibili_2025-pergine/
LOCATION:Pergine | Teatro Comunale
CATEGORIES:Concerto,Scuole,Spettacolo
ATTACH;FMTTYPE=image/png:https://www.fondazionetoscanini.it/wp-content/uploads/2024/01/foto-eventi-sito_mondi-possibili.png
END:VEVENT
BEGIN:VEVENT
DTSTART;TZID=Europe/Rome:20250214T104500
DTEND;TZID=Europe/Rome:20250214T114500
DTSTAMP:20260422T184141
CREATED:20250108T140658Z
LAST-MODIFIED:20250108T140806Z
UID:10000260-1739529900-1739533500@www.fondazionetoscanini.it
SUMMARY:MONDI POSSIBILI. Ovvero la storia della Signora della Musica e del Viaggiatore
DESCRIPTION:
URL:https://www.fondazionetoscanini.it/eventi/mondi-possibili_2025-riva-del-garda/
LOCATION:Riva del Garda | Palacongressi
CATEGORIES:Concerto,Scuole,Spettacolo
ATTACH;FMTTYPE=image/png:https://www.fondazionetoscanini.it/wp-content/uploads/2024/01/foto-eventi-sito_mondi-possibili.png
END:VEVENT
BEGIN:VEVENT
DTSTART;TZID=Europe/Rome:20250222T170000
DTEND;TZID=Europe/Rome:20250222T180000
DTSTAMP:20260422T184141
CREATED:20250130T110147Z
LAST-MODIFIED:20250130T111457Z
UID:10000272-1740243600-1740247200@www.fondazionetoscanini.it
SUMMARY:IL CARNEVALE DEGLI ANIMALI
DESCRIPTION:
URL:https://www.fondazionetoscanini.it/eventi/il-carnevale-degli-animali-2025-02-22/
LOCATION:Parma | Centro Produzione Musicale Toscanini – Sala Gavazzeni
CATEGORIES:Concerto,Spettacolo
ATTACH;FMTTYPE=image/jpeg:https://www.fondazionetoscanini.it/wp-content/uploads/2024/10/Il-carnevale-degli-animali_ph.-Luca-Pezzani-e1738233938140.jpg
END:VEVENT
BEGIN:VEVENT
DTSTART;TZID=Europe/Rome:20250225T093000
DTEND;TZID=Europe/Rome:20250225T103000
DTSTAMP:20260422T184141
CREATED:20250130T110121Z
LAST-MODIFIED:20250130T111915Z
UID:10000273-1740475800-1740479400@www.fondazionetoscanini.it
SUMMARY:IL CARNEVALE DEGLI ANIMALI
DESCRIPTION:
URL:https://www.fondazionetoscanini.it/eventi/il-carnevale-degli-animali-2025-02-25-1/
LOCATION:Parma | Centro Produzione Musicale Toscanini – Sala Gavazzeni
CATEGORIES:Concerto,Scuole,Spettacolo
ATTACH;FMTTYPE=image/jpeg:https://www.fondazionetoscanini.it/wp-content/uploads/2024/10/Il-carnevale-degli-animali_ph.-Luca-Pezzani-e1738233938140.jpg
END:VEVENT
BEGIN:VEVENT
DTSTART;TZID=Europe/Rome:20250225T113000
DTEND;TZID=Europe/Rome:20250225T123000
DTSTAMP:20260422T184141
CREATED:20250130T110749Z
LAST-MODIFIED:20250130T112206Z
UID:10000275-1740483000-1740486600@www.fondazionetoscanini.it
SUMMARY:IL CARNEVALE DEGLI ANIMALI
DESCRIPTION:
URL:https://www.fondazionetoscanini.it/eventi/il-carnevale-degli-animali-2025-02-25-2/
LOCATION:Parma | Centro Produzione Musicale Toscanini – Sala Gavazzeni
CATEGORIES:Concerto,Scuole,Spettacolo
ATTACH;FMTTYPE=image/jpeg:https://www.fondazionetoscanini.it/wp-content/uploads/2024/10/Il-carnevale-degli-animali_ph.-Luca-Pezzani-e1738233938140.jpg
END:VEVENT
BEGIN:VEVENT
DTSTART;TZID=Europe/Rome:20250226T103000
DTEND;TZID=Europe/Rome:20250226T113000
DTSTAMP:20260422T184141
CREATED:20250109T093755Z
LAST-MODIFIED:20250203T112835Z
UID:10000266-1740565800-1740569400@www.fondazionetoscanini.it
SUMMARY:MONDI POSSIBILI. Ovvero la storia della Signora della Musica e del Viaggiatore
DESCRIPTION:
URL:https://www.fondazionetoscanini.it/eventi/mondi-possibili_2025-martina-franca/2025-02-26/1/
LOCATION:Martina Franca | Teatro Verdi
CATEGORIES:Concerto,Spettacolo
ATTACH;FMTTYPE=image/png:https://www.fondazionetoscanini.it/wp-content/uploads/2024/01/foto-eventi-sito_mondi-possibili.png
END:VEVENT
BEGIN:VEVENT
DTSTART;TZID=Europe/Rome:20250226T203000
DTEND;TZID=Europe/Rome:20250226T213000
DTSTAMP:20260422T184141
CREATED:20250109T093755Z
LAST-MODIFIED:20250203T112835Z
UID:10000267-1740601800-1740605400@www.fondazionetoscanini.it
SUMMARY:MONDI POSSIBILI. Ovvero la storia della Signora della Musica e del Viaggiatore
DESCRIPTION:
URL:https://www.fondazionetoscanini.it/eventi/mondi-possibili_2025-martina-franca/2025-02-26/2/
LOCATION:Martina Franca | Teatro Verdi
CATEGORIES:Concerto,Spettacolo
ATTACH;FMTTYPE=image/png:https://www.fondazionetoscanini.it/wp-content/uploads/2024/01/foto-eventi-sito_mondi-possibili.png
END:VEVENT
BEGIN:VEVENT
DTSTART;TZID=Europe/Rome:20250324T110000
DTEND;TZID=Europe/Rome:20250324T120000
DTSTAMP:20260422T184141
CREATED:20250318T103808Z
LAST-MODIFIED:20250418T125803Z
UID:10000306-1742814000-1742817600@www.fondazionetoscanini.it
SUMMARY:THE JOY OF LIFE (La gioia della vita): Anteprima per le scuole
DESCRIPTION:
URL:https://www.fondazionetoscanini.it/eventi/the-joy-of-life-la-gioia-della-vita-anteprima-per-le-scuole/
LOCATION:Parma | Centro Produzione Musicale Toscanini – Sala Gavazzeni
CATEGORIES:Scuole,Spettacolo
ATTACH;FMTTYPE=image/png:https://www.fondazionetoscanini.it/wp-content/uploads/2025/03/foto-eventi-sito-169_Lets-Pass.png
END:VEVENT
BEGIN:VEVENT
DTSTART;TZID=Europe/Rome:20250324T160000
DTEND;TZID=Europe/Rome:20250324T170000
DTSTAMP:20260422T184141
CREATED:20250310T114058Z
LAST-MODIFIED:20250418T125755Z
UID:10000292-1742832000-1742835600@www.fondazionetoscanini.it
SUMMARY:THE JOY OF LIFE (La gioia della vita) | PASS project
DESCRIPTION:
URL:https://www.fondazionetoscanini.it/eventi/the-joy-of-life_pass-project/
LOCATION:Parma | Centro Produzione Musicale Toscanini – Sala Gavazzeni
CATEGORIES:Spettacolo
ATTACH;FMTTYPE=image/png:https://www.fondazionetoscanini.it/wp-content/uploads/2025/03/foto-eventi-sito-169_Lets-Pass.png
END:VEVENT
BEGIN:VEVENT
DTSTART;TZID=Europe/Rome:20250327T103000
DTEND;TZID=Europe/Rome:20250327T113000
DTSTAMP:20260422T184141
CREATED:20250304T170008Z
LAST-MODIFIED:20250320T175836Z
UID:10000287-1743071400-1743075000@www.fondazionetoscanini.it
SUMMARY:LA PICCOLA MOZART – Storia di Nannerl e di Wolfgang suo fratello
DESCRIPTION:
URL:https://www.fondazionetoscanini.it/eventi/la-piccola-mozart_27-marzo-scuole/
LOCATION:Parma | Centro Produzione Musicale Toscanini – Sala Gavazzeni
CATEGORIES:Concerto,Spettacolo
ATTACH;FMTTYPE=image/png:https://www.fondazionetoscanini.it/wp-content/uploads/2025/03/foto-eventi-sito-169_La-piccola-Mozart-foto-Lorenza-Daverio-2024.png
END:VEVENT
BEGIN:VEVENT
DTSTART;TZID=Europe/Rome:20250328T200000
DTEND;TZID=Europe/Rome:20250328T210000
DTSTAMP:20260422T184141
CREATED:20250326T173317Z
LAST-MODIFIED:20250418T125715Z
UID:10000308-1743192000-1743195600@www.fondazionetoscanini.it
SUMMARY:THE JOY OF LIFE (La gioia della vita) | PASS project
DESCRIPTION:
URL:https://www.fondazionetoscanini.it/eventi/the-joy-of-life_pass-project_salonicco/
LOCATION:Grecia | Salonicco
CATEGORIES:Spettacolo
ATTACH;FMTTYPE=image/png:https://www.fondazionetoscanini.it/wp-content/uploads/2025/03/foto-eventi-sito-169_Lets-Pass.png
END:VEVENT
BEGIN:VEVENT
DTSTART;TZID=Europe/Rome:20250329T170000
DTEND;TZID=Europe/Rome:20250329T180000
DTSTAMP:20260422T184141
CREATED:20250304T165658Z
LAST-MODIFIED:20250320T175841Z
UID:10000286-1743267600-1743271200@www.fondazionetoscanini.it
SUMMARY:LA PICCOLA MOZART - Storia di Nannerl e di Wolfgang suo fratello
DESCRIPTION:
URL:https://www.fondazionetoscanini.it/eventi/la-piccola-mozart_29-marzo/
LOCATION:Parma | Centro Produzione Musicale Toscanini – Sala Gavazzeni
CATEGORIES:Concerto,Spettacolo
ATTACH;FMTTYPE=image/png:https://www.fondazionetoscanini.it/wp-content/uploads/2025/03/foto-eventi-sito-169_La-piccola-Mozart-foto-Lorenza-Daverio-2024.png
END:VEVENT
BEGIN:VEVENT
DTSTART;TZID=Europe/Rome:20250409T110000
DTEND;TZID=Europe/Rome:20250409T123000
DTSTAMP:20260422T184141
CREATED:20250401T114518Z
LAST-MODIFIED:20250402T113550Z
UID:10000314-1744196400-1744201800@www.fondazionetoscanini.it
SUMMARY:IL POTERE DELLA MUSICA
DESCRIPTION:
URL:https://www.fondazionetoscanini.it/eventi/il-potere-della-musica/
LOCATION:Parma | Centro Produzione Musicale Toscanini – Sala Gavazzeni
CATEGORIES:Concerto,Spettacolo
ATTACH;FMTTYPE=image/png:https://www.fondazionetoscanini.it/wp-content/uploads/2025/04/foto-eventi-sito-169_Stefania-Panighini-il-potere-della-musica.png
END:VEVENT
BEGIN:VEVENT
DTSTART;TZID=Europe/Rome:20250430T210000
DTEND;TZID=Europe/Rome:20250430T223000
DTSTAMP:20260422T184141
CREATED:20250429T081421Z
LAST-MODIFIED:20250429T091911Z
UID:10000322-1746046800-1746052200@www.fondazionetoscanini.it
SUMMARY:INVICTUS – Correndo contro il vento…
DESCRIPTION:
URL:https://www.fondazionetoscanini.it/eventi/invictus-correndo-contro-il-vento-3/
LOCATION:Busseto | Teatro Giuseppe Verdi\, Piazza Giuseppe Verdi 1\, Busseto\, 43011
CATEGORIES:Spettacolo
ATTACH;FMTTYPE=image/jpeg:https://www.fondazionetoscanini.it/wp-content/uploads/2025/04/20240124-Invictus-057_16.9_ph.-Fabio-Furlotti-scaled.jpg
END:VEVENT
BEGIN:VEVENT
DTSTART;TZID=Europe/Rome:20250506T193000
DTEND;TZID=Europe/Rome:20250506T203000
DTSTAMP:20260422T184141
CREATED:20250418T125140Z
LAST-MODIFIED:20250418T125408Z
UID:10000318-1746559800-1746563400@www.fondazionetoscanini.it
SUMMARY:THE JOY OF LIFE (La gioia della vita) | PASS project
DESCRIPTION:
URL:https://www.fondazionetoscanini.it/eventi/the-joy-of-life-la-gioia-della-vita-pass-project-praga/
LOCATION:Repubblica Ceca | Praga
CATEGORIES:Spettacolo
ATTACH;FMTTYPE=image/png:https://www.fondazionetoscanini.it/wp-content/uploads/2025/04/foto-eventi-sito-169_The-joy-of-life_PASS_Ph.-Luca-Pezzani.png
END:VEVENT
BEGIN:VEVENT
DTSTART;TZID=Europe/Rome:20250509T130000
DTEND;TZID=Europe/Rome:20250509T140000
DTSTAMP:20260422T184141
CREATED:20250418T125634Z
LAST-MODIFIED:20250418T130233Z
UID:10000319-1746795600-1746799200@www.fondazionetoscanini.it
SUMMARY:THE JOY OF LIFE (La gioia della vita) | PASS project
DESCRIPTION:
URL:https://www.fondazionetoscanini.it/eventi/the-joy-of-life-la-gioia-della-vita-pass-project-tampere/
LOCATION:Finlandia | Tampere
CATEGORIES:Spettacolo
ATTACH;FMTTYPE=image/png:https://www.fondazionetoscanini.it/wp-content/uploads/2025/04/foto-eventi-sito-169_The-joy-of-life_PASS_Ph.-Luca-Pezzani.png
END:VEVENT
BEGIN:VEVENT
DTSTART;TZID=Europe/Rome:20250523T180000
DTEND;TZID=Europe/Rome:20250523T190000
DTSTAMP:20260422T184141
CREATED:20250519T135804Z
LAST-MODIFIED:20250522T155933Z
UID:10000334-1748023200-1748026800@www.fondazionetoscanini.it
SUMMARY:ANTEPRIMA DOCUFILM "THE JOY OF LIFE" | Festival dello sviluppo sostenibile
DESCRIPTION:
URL:https://www.fondazionetoscanini.it/eventi/anteprima-docufilm-the-joy-of-life-festival-dello-sviluppo-sostenibile/
LOCATION:Parma | Cinema d’Azeglio
CATEGORIES:Proiezione,Spettacolo
ATTACH;FMTTYPE=image/png:https://www.fondazionetoscanini.it/wp-content/uploads/2025/05/foto-eventi-sito-169_festival-dello-sviluppo-sostenibile.png
END:VEVENT
BEGIN:VEVENT
DTSTART;TZID=Europe/Rome:20251105T190000
DTEND;TZID=Europe/Rome:20251105T210000
DTSTAMP:20260422T184141
CREATED:20251028T142751Z
LAST-MODIFIED:20251028T142800Z
UID:10000430-1762369200-1762376400@www.fondazionetoscanini.it
SUMMARY:Come un romanzo popolare
DESCRIPTION:
URL:https://www.fondazionetoscanini.it/eventi/come-un-romanzo-popolare/
LOCATION:Parma | Teatro Regio
CATEGORIES:Concerto,Spettacolo
ATTACH;FMTTYPE=image/png:https://www.fondazionetoscanini.it/wp-content/uploads/2025/10/foto-eventi-sito-169_Caronna-SHEROL-DOS-SANTOS.png
END:VEVENT
BEGIN:VEVENT
DTSTART;TZID=Europe/Rome:20251108T180000
DTEND;TZID=Europe/Rome:20251108T193000
DTSTAMP:20260422T184141
CREATED:20251021T091829Z
LAST-MODIFIED:20251108T155616Z
UID:10000428-1762624800-1762630200@www.fondazionetoscanini.it
SUMMARY:PIERINO E IL LUPO ACCESSIBILE
DESCRIPTION:  \n 
URL:https://www.fondazionetoscanini.it/eventi/pierino-e-il-lupo-accessibile/
LOCATION:Parma | Parco della Musica\, CPM Arturo Toscanini\, Viale Barilla 27/A\, Parma\, 43121
CATEGORIES:Spettacolo
ATTACH;FMTTYPE=image/jpeg:https://www.fondazionetoscanini.it/wp-content/uploads/2025/10/Pierino-e-il-Lupo-16.9-scaled.jpg
END:VEVENT
BEGIN:VEVENT
DTSTART;TZID=Europe/Rome:20251202T180000
DTEND;TZID=Europe/Rome:20251202T190000
DTSTAMP:20260422T184141
CREATED:20251128T173230Z
LAST-MODIFIED:20251128T173230Z
UID:10000468-1764698400-1764702000@www.fondazionetoscanini.it
SUMMARY:NAUFRAGI
DESCRIPTION:
URL:https://www.fondazionetoscanini.it/eventi/naufragi/2025-12-02/
LOCATION:Parma | Teatro della Casa Circondariale (Strada Burla 57)
CATEGORIES:Concerto,Spettacolo
ATTACH;FMTTYPE=image/jpeg:https://www.fondazionetoscanini.it/wp-content/uploads/2025/11/Naufragi-16.9-scaled.jpg
END:VEVENT
END:VCALENDAR